BEGIN:VCALENDAR
VERSION:2.0
PRODID:-//Portál pražských knihoven - ECPv6.13.1//NONSGML v1.0//EN
CALSCALE:GREGORIAN
METHOD:PUBLISH
X-WR-CALNAME:Portál pražských knihoven
X-ORIGINAL-URL:https://regionpraha.mlp.cz
X-WR-CALDESC:Akce na Portál pražských knihoven
REFRESH-INTERVAL;VALUE=DURATION:PT1H
X-Robots-Tag:noindex
X-PUBLISHED-TTL:PT1H
BEGIN:VTIMEZONE
TZID:Europe/Prague
BEGIN:DAYLIGHT
TZOFFSETFROM:+0100
TZOFFSETTO:+0200
TZNAME:CEST
DTSTART:20260329T010000
END:DAYLIGHT
BEGIN:STANDARD
TZOFFSETFROM:+0200
TZOFFSETTO:+0100
TZNAME:CET
DTSTART:20261025T010000
END:STANDARD
END:VTIMEZONE
BEGIN:VEVENT
DTSTART;TZID=Europe/Prague:20260318T100000
DTEND;TZID=Europe/Prague:20260318T120000
DTSTAMP:20260422T081513
CREATED:20260305T092902Z
LAST-MODIFIED:20260305T092902Z
UID:9797-1773828000-1773835200@regionpraha.mlp.cz
SUMMARY:Digitální odysea v knihovnách 2026/2027 - informační schůzka
DESCRIPTION:📅 Termín konání: 18. 3. 2026 \n🕘 Čas: 10.00 \n🌐Forma: online \n💸 Cena: zdarma \nNezávazná informační schůzka k projektu Digitální odysea v knihovnách\, který do knihoven přináší SDRUK\, Nadace Vodafone\, Elpida a Moudrá Sovička. \nCílem projektu je co nejvíce zpřístupnit moderní technologie a digitální vzdělávání seniorům\, aby byli sebevědomější\, samostatnější\, mohli být více v kontaktu s rodinou a blízkými\, zapojovat se do společenského života a získali nové možnosti\, jak se vzdělávat. \nKnihovny\, které se do projektu zapojily\, rozšířily svou nabídku o novou službu. \nSlužba je určena pro seniory 65+\, kteří mají chuť a motivaci vydat se do online prostoru\, ale neví\, jak začít\, nebo se obávají\, že to nezvládnou. \nDíky této službě získají možnost si to vyzkoušet a bezplatně si zapůjčit domů chytré zařízení s datovou SIM kartou\, dostanou podpůrné materiály\, které je provedou základními úkony a proškolený knihovník či knihovnice jim trpělivě a vstřícně vysvětlí práci se zařízením\, zodpoví základní dotazy a nasměruje k dalšímu studiu. \nPolovina zapojených knihoven v rámci projektu pořádá kurzy práce s chytrými zařízeními. \nNa informační schůzku se (bez nutnosti registrace) můžete 18. 3. 2026 v 10:00 připojit po kliknutí na TENTO ODKAZ. \n 
URL:https://regionpraha.mlp.cz/akce/digitalni_odysea_v_knihovnach_26-27/
LOCATION:online
ATTACH;FMTTYPE=image/jpeg:https://regionpraha.mlp.cz/wp-content/uploads/2026/03/438078977_858180029682648_505687993192956449_n.jpg
END:VEVENT
END:VCALENDAR