BEGIN:VCALENDAR
VERSION:2.0
PRODID:-//Portál pražských knihoven - ECPv6.13.1//NONSGML v1.0//EN
CALSCALE:GREGORIAN
METHOD:PUBLISH
X-WR-CALNAME:Portál pražských knihoven
X-ORIGINAL-URL:https://regionpraha.mlp.cz
X-WR-CALDESC:Akce na Portál pražských knihoven
REFRESH-INTERVAL;VALUE=DURATION:PT1H
X-Robots-Tag:noindex
X-PUBLISHED-TTL:PT1H
BEGIN:VTIMEZONE
TZID:Europe/Prague
BEGIN:DAYLIGHT
TZOFFSETFROM:+0100
TZOFFSETTO:+0200
TZNAME:CEST
DTSTART:20260329T010000
END:DAYLIGHT
BEGIN:STANDARD
TZOFFSETFROM:+0200
TZOFFSETTO:+0100
TZNAME:CET
DTSTART:20261025T010000
END:STANDARD
END:VTIMEZONE
BEGIN:VEVENT
DTSTART;TZID=Europe/Prague:20260422T100000
DTEND;TZID=Europe/Prague:20260422T113000
DTSTAMP:20260422T044418
CREATED:20260318T143250Z
LAST-MODIFIED:20260318T143250Z
UID:9909-1776852000-1776857400@regionpraha.mlp.cz
SUMMARY:Setkání k tématu Čtenářství mladých dospělých II
DESCRIPTION:📅 Termín konání: 22. 4. 2026 \n🕘 Čas: 10.00–11.30 \n🌐Forma: online \n💸 Cena: zdarma \nOdkaz: \nhttps://cesnet.zoom.us/j/91915859067?pwd=ale43ZrlhsrzCGHjUDJXxqgihEt9n3.1 \nMeeting ID: 919 1585 9067\nPasscode: 362524 \n(bez nutnosti registrace\, stačí kliknout na odkaz a připojit se na Zoom \n—————————————————————- \nCelonárodním komunikačním tématem knihoven pro roky 2026 a 2027 se stává „Čtenářství a čtenářská kultura mladých“. \nDruhé projektové setkání – intenzivních devadesát minut k aktuálnímu komunikačnímu tématu knihoven na roky 2026-2027 (Koncepce knihoven\, Priorita 6). \nCelý projekt si klade za cíl pro mladou generaci tvořit knihovny a aktivity v souladu s koncepčními pilíři „Knihovny jako pilíře občanské společnosti a přirozená centra komunit“ a zároveň „Knihovny jako vzdělávací a vzdělanost podporující instituce“. \nBěhem setkání si osvětlíme aktuální stav projektových aktivit\, co se událo\, co se připravuje a co je aktuálně řešeno. \nOpět budou externí hosté\, kteří připravují k řešenému tématu podnětné příspěvky s přesahem do naší knihovnické praxe. \nPodrobnosti k programu budou zveřejněny cca týden před konáním setkání ZDE. \nKdokoliv se bude chtít připojit\, je srdečně zván!
URL:https://regionpraha.mlp.cz/akce/setkani-k-tematu-ctenarstvi-mladych-dospelych-2/
LOCATION:online
ATTACH;FMTTYPE=image/jpeg:https://regionpraha.mlp.cz/wp-content/uploads/2026/03/mladi-dospeli.jpg
END:VEVENT
END:VCALENDAR