BEGIN:VCALENDAR
VERSION:2.0
PRODID:-//Portál pražských knihoven - ECPv6.13.1//NONSGML v1.0//EN
CALSCALE:GREGORIAN
METHOD:PUBLISH
X-ORIGINAL-URL:https://regionpraha.mlp.cz
X-WR-CALDESC:Akce na Portál pražských knihoven
REFRESH-INTERVAL;VALUE=DURATION:PT1H
X-Robots-Tag:noindex
X-PUBLISHED-TTL:PT1H
BEGIN:VTIMEZONE
TZID:Europe/Prague
BEGIN:DAYLIGHT
TZOFFSETFROM:+0100
TZOFFSETTO:+0200
TZNAME:CEST
DTSTART:20260329T010000
END:DAYLIGHT
BEGIN:STANDARD
TZOFFSETFROM:+0200
TZOFFSETTO:+0100
TZNAME:CET
DTSTART:20261025T010000
END:STANDARD
END:VTIMEZONE
BEGIN:VEVENT
DTSTART;TZID=Europe/Prague:20260427T090000
DTEND;TZID=Europe/Prague:20260427T110000
DTSTAMP:20260422T044748
CREATED:20260216T110913Z
LAST-MODIFIED:20260216T140959Z
UID:9618-1777280400-1777287600@regionpraha.mlp.cz
SUMMARY:Toxické vztahy na pracovišti
DESCRIPTION:📅 Termín konání: 27. 4. 2026 \n🕘 Čas: 9.00–11.00 \n📍 Místo konání: Malý sál ÚK \n👩‍🏫 Lektorky: Markéta Chmelíková a Simona Vorlíčková \nToxické chování na pracovišti může nenápadně ovlivňovat atmosféru v týmu\, psychickou pohodu i pracovní výsledky. Přednáška účastníky seznámí s tím\, co toxické chování vlastně je\, jak se liší od běžných pracovních konfliktů a jaké varovné signály mohou napovědět\, že v prostředí vzniká problém. Stručně se dotkneme nejčastějších forem toxického jednání a jejich dopadu na jednotlivce i tým. Hlavní důraz bude kladen na praktické postupy: jak na toxické chování reagovat\, jak si bezpečně nastavit zdravé hranice a jak chránit vlastní psychickou pohodu v náročných situacích. Přednáška nabídne srozumitelné tipy a podporu pro každého\, kdo chce lépe zvládat náročné vztahy v pracovním prostředí.
URL:https://regionpraha.mlp.cz/akce/toxicke-vztahy-na-pracovisti/
LOCATION:Ústřední knihovna\, Malý sál\, Mariánské náměstí 98/1\, Praha 1\, Česká republika
ATTACH;FMTTYPE=image/jpeg:https://regionpraha.mlp.cz/wp-content/uploads/2025/01/low-angle-people-talking-about-books.jpg
END:VEVENT
END:VCALENDAR