BEGIN:VCALENDAR
VERSION:2.0
PRODID:-//Portál pražských knihoven - ECPv6.13.1//NONSGML v1.0//EN
CALSCALE:GREGORIAN
METHOD:PUBLISH
X-ORIGINAL-URL:https://regionpraha.mlp.cz
X-WR-CALDESC:Akce na Portál pražských knihoven
REFRESH-INTERVAL;VALUE=DURATION:PT1H
X-Robots-Tag:noindex
X-PUBLISHED-TTL:PT1H
BEGIN:VTIMEZONE
TZID:Europe/Prague
BEGIN:DAYLIGHT
TZOFFSETFROM:+0100
TZOFFSETTO:+0200
TZNAME:CEST
DTSTART:20260329T010000
END:DAYLIGHT
BEGIN:STANDARD
TZOFFSETFROM:+0200
TZOFFSETTO:+0100
TZNAME:CET
DTSTART:20261025T010000
END:STANDARD
END:VTIMEZONE
BEGIN:VEVENT
DTSTART;TZID=Europe/Prague:20260218T100000
DTEND;TZID=Europe/Prague:20260218T150000
DTSTAMP:20260422T081630
CREATED:20260115T131555Z
LAST-MODIFIED:20260218T084142Z
UID:9389-1771408800-1771426800@regionpraha.mlp.cz
SUMMARY:Konference Knihovny.digital – Na cestě k digitálním službám 
DESCRIPTION:📅 Termín konání: 18. 2. 2026 \n🕘 Čas: 10.00–⁠⁠⁠⁠⁠⁠15.00 \n📍 Místo konání: klubovna ÚK \n💸 Cena: zdarma \nKonference Knihovny.digital – Na cestě k digitálním službám  zakončí více než dvouleté celonárodní téma Digitální gramotnost v knihovnách. Program bude tvořen dopoledním a dvěma odpoledními bloky s příspěvky odborníků\, příklady dobré praxe z knihoven\, setkáním s partnerskými organizacemi a speciální edicí Knihovnického kvízu. \nZ kapacitních důvodů je nutné registrovat se na konferenci a pro zájemce o hraní kvízu se přihlásit na konkrétní časový slot. \nPřihlašovat se můžete zde: https://forms.gle/u8zsMsAsuTNSqVBX9
URL:https://regionpraha.mlp.cz/akce/konference-knihovny-digital-na-ceste-k-digitalnim-sluzbam/
LOCATION:Ústřední knihovna\, Malý sál\, Mariánské náměstí 98/1\, Praha 1\, Česká republika
ATTACH;FMTTYPE=image/jpeg:https://regionpraha.mlp.cz/wp-content/uploads/2025/05/crop-unrecognizable-worker-with-tablet.jpg
END:VEVENT
BEGIN:VEVENT
DTSTART;TZID=Europe/Prague:20260219T100000
DTEND;TZID=Europe/Prague:20260219T113000
DTSTAMP:20260422T081630
CREATED:20260212T103555Z
LAST-MODIFIED:20260212T103600Z
UID:9614-1771495200-1771500600@regionpraha.mlp.cz
SUMMARY:Setkání k tématu 2026 a 2027 - Čtenářství mladých
DESCRIPTION:📅 Termín konání: 19. 2. 2026 \n🕘 Čas: 10.00–11.30 \n🌐Forma: online \n💸 Cena: zdarma \nOdkaz: \nhttps://cesnet.zoom.us/j/99390223604?pwd=xHMrRU1GAqfhpYQV2ZBqD9WR6V4w4t.1 \nMeeting ID: 993 9022 3604\nPasscode: 701914 \n(bez nutnosti registrace\, stačí kliknout na odkaz a připojit se na Zoom \n—————————————————————- \nCelonárodním komunikačním tématem knihoven pro roky 2026 a 2027 se stává „Čtenářství a čtenářská kultura mladých“. \nCo nové téma do knihoven přinese? To se dozvíte na úvodním online setkání. \nCelý projekt si klade za cíl tvořit pro mladou generaci aktivity v souladu s koncepčními pilíři Knihovny jako pilíře občanské společnosti a přirozená centra komunit a Knihovny jako vzdělávací a vzdělanost podporující instituce. \nNa setkání představíme pojetí celé koncepce projektu s pracovním názvem Tvůj příběh čeká – čtenářství mladých\, jeho dílčích aktivit\, možných uchopení a již spuštěných akcí\, do nichž je možné se zapojit a které v souladu celého roku poskytnou bázi pro strategické plánování aktivit na další období.
URL:https://regionpraha.mlp.cz/akce/setkani-k-tematu-2026-a-2027-ctenarstvi-mladych/
LOCATION:online
ATTACH;FMTTYPE=image/jpeg:https://regionpraha.mlp.cz/wp-content/uploads/2025/06/starsi-deti-2.jpg
END:VEVENT
BEGIN:VEVENT
DTSTART;TZID=Europe/Prague:20260219T130000
DTEND;TZID=Europe/Prague:20260219T130000
DTSTAMP:20260422T081630
CREATED:20260212T101054Z
LAST-MODIFIED:20260212T101119Z
UID:9611-1771506000-1771506000@regionpraha.mlp.cz
SUMMARY:Webinář pro kampaň Březen - měsíc čtenářů 2026
DESCRIPTION:📅 Termín konání: 19. 2. 2026 \n🕘 Čas: 13.00 \n🌐Forma: online \n💸 Cena: zdarma \nPřijďte se dozvědět\, jak kampaň efektivně využít právě ve vaší knihovně a jaké materiály i podporu máte pro své aktivity k dispozici. \nCo se na webináři dozvíte? \n\nHlavní vizi a cíle letošního ročníku BMČ.\nPraktické tipy\, jak kampaň zapojit do programu vaší knihovny.\nPředstavení propagačních materiálů a nástrojů\, které můžete využít.\n\nRegistrovat se můžete ZDE. \n  \n  \nPodrobné informace a veškeré podklady pro knihovny naleznete již nyní na webu kampaně v sekci pro knihovníky: https://bmc.skipcr.cz/pro-knihovny/
URL:https://regionpraha.mlp.cz/akce/webinar-pro-kampan-brezen-mesic-ctenaru-2026/
LOCATION:online
ATTACH;FMTTYPE=image/jpeg:https://regionpraha.mlp.cz/wp-content/uploads/2026/02/BMC-A42.jpg
END:VEVENT
BEGIN:VEVENT
DTSTART;TZID=Europe/Prague:20260224T093000
DTEND;TZID=Europe/Prague:20260224T133000
DTSTAMP:20260422T081630
CREATED:20260128T172728Z
LAST-MODIFIED:20260219T154417Z
UID:9596-1771925400-1771939800@regionpraha.mlp.cz
SUMMARY:Setkání pracovníků knihoven regionu Praha 2026
DESCRIPTION:📅 Termín konání: 24. 2. 2026 \n🕘 Čas: 9.30–⁠⁠⁠⁠⁠⁠13.30 \n📍 Místo konání: Kulturní a kreativní centrum Kbely\, Mladoboleslavská 1116 (budova č. 1\, bývalý areál PAL)\, Praha 9-Kbely \n💸 Cena: zdarma \nZveme vás na každoroční inspirativní setkání pracovníků místních veřejných knihoven regionu Praha! \nPřijďte si poslechnout\, co se v regionu událo\, co nás čeká a co by vám rozhodně nemělo uniknout. A také se přijďte podívat na nově otevřené Kulturní a kreativní centrum Kbely! \nProgram: \n\n9.00–9.30 prezence účastníků\n9.30–10.00 Přivítání účastníků a zdravice ředitele MKP (RNDr. Tomáš Řehák\, Ph.D.\, ředitel Městské knihovny v Praze)\n10.00–10.45 Připojení regionu k Souborném katalogu ČR (Mgr. Běla Matějovičová a Jan Matějovič\, SK ČR)\n10.45–11.30 Databanka vzdělávacích programů (Mgr. Pavlína Lišovská\, vedoucí Centra dětského čtenářství\, Knihovna Jiřího Mahena v Brně)\n11.30–12.15 přestávka\n12.15–13.00 Shrnutí roku 2025 a výhled na rok 2026 v pražském regionu (Jitka Kutmon a Mirka Melenová\, MKP)\n13.00–13.30 O cestě k nové budově knihovny ve Kbelích (Iveta Novotná\, vedoucí KKCK)\n13.30 konec setkání
URL:https://regionpraha.mlp.cz/akce/setkani-pracovniku-knihoven-regionu-praha-2026/
LOCATION:Kulturní a kreativní centrum Kbely\, Mladoboleslavská 1116 (budova č. 1\, bývalý areál PAL)\, Praha 9 – Kbely\, 197 00
ATTACH;FMTTYPE=image/jpeg:https://regionpraha.mlp.cz/wp-content/uploads/2026/01/people-library-reading-learning-from-books.jpg
ORGANIZER;CN="Kulturn%C3%AD a kreativn%C3%AD centrum Kbely":MAILTO:info@kkckbely.cz
END:VEVENT
END:VCALENDAR