BEGIN:VCALENDAR
VERSION:2.0
PRODID:-//Portál pražských knihoven - ECPv6.13.1//NONSGML v1.0//EN
CALSCALE:GREGORIAN
METHOD:PUBLISH
X-ORIGINAL-URL:https://regionpraha.mlp.cz
X-WR-CALDESC:Akce na Portál pražských knihoven
REFRESH-INTERVAL;VALUE=DURATION:PT1H
X-Robots-Tag:noindex
X-PUBLISHED-TTL:PT1H
BEGIN:VTIMEZONE
TZID:Europe/Prague
BEGIN:DAYLIGHT
TZOFFSETFROM:+0100
TZOFFSETTO:+0200
TZNAME:CEST
DTSTART:20260329T010000
END:DAYLIGHT
BEGIN:STANDARD
TZOFFSETFROM:+0200
TZOFFSETTO:+0100
TZNAME:CET
DTSTART:20261025T010000
END:STANDARD
END:VTIMEZONE
BEGIN:VEVENT
DTSTART;TZID=Europe/Prague:20260318T100000
DTEND;TZID=Europe/Prague:20260318T120000
DTSTAMP:20260422T071001
CREATED:20260305T092902Z
LAST-MODIFIED:20260305T092902Z
UID:9797-1773828000-1773835200@regionpraha.mlp.cz
SUMMARY:Digitální odysea v knihovnách 2026/2027 - informační schůzka
DESCRIPTION:📅 Termín konání: 18. 3. 2026 \n🕘 Čas: 10.00 \n🌐Forma: online \n💸 Cena: zdarma \nNezávazná informační schůzka k projektu Digitální odysea v knihovnách\, který do knihoven přináší SDRUK\, Nadace Vodafone\, Elpida a Moudrá Sovička. \nCílem projektu je co nejvíce zpřístupnit moderní technologie a digitální vzdělávání seniorům\, aby byli sebevědomější\, samostatnější\, mohli být více v kontaktu s rodinou a blízkými\, zapojovat se do společenského života a získali nové možnosti\, jak se vzdělávat. \nKnihovny\, které se do projektu zapojily\, rozšířily svou nabídku o novou službu. \nSlužba je určena pro seniory 65+\, kteří mají chuť a motivaci vydat se do online prostoru\, ale neví\, jak začít\, nebo se obávají\, že to nezvládnou. \nDíky této službě získají možnost si to vyzkoušet a bezplatně si zapůjčit domů chytré zařízení s datovou SIM kartou\, dostanou podpůrné materiály\, které je provedou základními úkony a proškolený knihovník či knihovnice jim trpělivě a vstřícně vysvětlí práci se zařízením\, zodpoví základní dotazy a nasměruje k dalšímu studiu. \nPolovina zapojených knihoven v rámci projektu pořádá kurzy práce s chytrými zařízeními. \nNa informační schůzku se (bez nutnosti registrace) můžete 18. 3. 2026 v 10:00 připojit po kliknutí na TENTO ODKAZ. \n 
URL:https://regionpraha.mlp.cz/akce/digitalni_odysea_v_knihovnach_26-27/
LOCATION:online
ATTACH;FMTTYPE=image/jpeg:https://regionpraha.mlp.cz/wp-content/uploads/2026/03/438078977_858180029682648_505687993192956449_n.jpg
END:VEVENT
BEGIN:VEVENT
DTSTART;TZID=Europe/Prague:20260323T090000
DTEND;TZID=Europe/Prague:20260323T120000
DTSTAMP:20260422T071001
CREATED:20260112T101955Z
LAST-MODIFIED:20260112T101955Z
UID:9537-1774256400-1774267200@regionpraha.mlp.cz
SUMMARY:Setkání ke komiksům Xl
DESCRIPTION:📅 Termín konání: 23. 3. 2026 \n🕘 Čas: 9.00–⁠⁠⁠⁠⁠⁠12.00 \n🌐 Forma: online (Zoom) \n💸 Cena: zdarma \n👩‍🏫 Lektor: Mgr. Michael Fiala\, Oddělení akvizice MKP \nNejzajímavější komiksy vydané v ČR za poslední cca půlrok plus základní přehledy dalších. V pořadí jedenácté on-line setkání s akvizitérem a lektorem komiksů v MKP ve formě přednášky s prostorem pro případnou diskusi. Akce je inspirovaná setkáními s lektory beletrie L. Šinkmajerem a T. Vlčkem. Účast na předchozích setkáních není vůbec podmínkou\, představují se totiž vždy nová díla – a všichni jsou srdečně zváni.
URL:https://regionpraha.mlp.cz/akce/setkani-ke-komiksum-xl/
LOCATION:online
ATTACH;FMTTYPE=image/jpeg:https://regionpraha.mlp.cz/wp-content/uploads/2025/04/medium-shot-family-reading-comics-together.jpg
END:VEVENT
BEGIN:VEVENT
DTSTART;TZID=Europe/Prague:20260323T105000
DTEND;TZID=Europe/Prague:20260323T122000
DTSTAMP:20260422T071001
CREATED:20260319T092826Z
LAST-MODIFIED:20260319T092923Z
UID:9927-1774263000-1774268400@regionpraha.mlp.cz
SUMMARY:AI gramotnost a jak ji navyšovat
DESCRIPTION:📅 Termín konání: 23. 3. 2026 \n🕘 Čas: 10.50–12.20 \n🌐Forma: online \n💸 Cena: zdarma \nOdkaz: https://cesnet.zoom.us/j/7111416355?omn=97214682087 \n(bez nutnosti registrace\, stačí kliknout na odkaz a připojit se na Zoom) \n—————————————————————- \nOnline přednáška Kláry Pirklové (Národní pedagogický institut) na téma Co je AI gramotnost a jak ji navyšovat.\nAI gramotnost je soubor znalostí\, dovedností a postojů\, které si člověk má osvojit\, aby se orientoval ve světě s umělou inteligencí. Není náhoda\, že v definování a ohraničení AI gramotnosti se angažují odborníci na informace. Klára Pirklová\, specialistka na technologické inovace ve vzdělávání\, ve svém příspěvku ukáže\, kam se tyto debaty ubírají na odborné i politické úrovni a také\, jak přistoupit k navyšování vlastní AI gramotnosti.\n\n\n📌 Z bezpečnostních důvodů prosím\, abyste do místnosti vstupovali pod svým skutečným jménem a vypnuli mikrofon.\n\n\n🎥 Záznam z přednášky bude také dostupný na YouTube  http://tinyurl.com/odborneforum.\n\n🤝 Přednáškový cyklus podporuje Česká informační společnost\, z. s.
URL:https://regionpraha.mlp.cz/akce/ai-gramotnost-a-jak-ji-navysovat/
LOCATION:online
ATTACH;FMTTYPE=image/jpeg:https://regionpraha.mlp.cz/wp-content/uploads/2025/06/kyberbezpecnost.jpg
ORGANIZER;CN="%C3%9Astav informa%C4%8Dn%C3%ADch studi%C3%AD a knihovnictv%C3%AD FF %C3%9AK":MAILTO:Pavlina.Kolinova@ff.​cuni.cz
END:VEVENT
BEGIN:VEVENT
DTSTART;TZID=Europe/Prague:20260324T100000
DTEND;TZID=Europe/Prague:20260324T114500
DTSTAMP:20260422T071001
CREATED:20260318T073650Z
LAST-MODIFIED:20260318T073650Z
UID:9899-1774346400-1774352700@regionpraha.mlp.cz
SUMMARY:Digitální setkání pro knihovníky VIII
DESCRIPTION:📅 Termín konání: 24. 3. 2026 \n🕘 Čas: 10.00–11.45 \n🌐Forma: online \n💸 Cena: zdarma \n👩‍🏫 Lektoři a program: \n\nDIA / Zuzana Ujhelyiová: eAkademie a Školicí a vzdělávací platforma\nNárodní knihovna ČR / Vojtěch Halama: Co a proč digitalizujeme z novodobých fondů Národní knihovny\nKrajská knihovna Františka Bartoše ve Zlíně / Mgr. Libuše Pavlicová: Komplexní digitální služby knihovny\nAI dětem / Eva Nečasová: Jak na AI v knihovnách?\nStředisko Teiresiás Masarykovy univerzity / Radek Pavlíček Přístupnost jako standard: Co přináší Evropský zákon o přístupnosti (nejen) knihovnám\nNadace OSF / Kateřina Hvala: Jak získat grant na rozvoj malých knihoven\n\nNa akci se není třeba registrovat. Stačí se v čase konání připojit přes tento ODKAZ.
URL:https://regionpraha.mlp.cz/akce/digitalni-setkani-pro-knihovniky-viii/
LOCATION:online
ATTACH;FMTTYPE=image/jpeg:https://regionpraha.mlp.cz/wp-content/uploads/2025/05/person-working-html-computer.jpg
END:VEVENT
BEGIN:VEVENT
DTSTART;TZID=Europe/Prague:20260330T110000
DTEND;TZID=Europe/Prague:20260330T130000
DTSTAMP:20260422T071001
CREATED:20260311T113756Z
LAST-MODIFIED:20260311T114108Z
UID:9879-1774868400-1774875600@regionpraha.mlp.cz
SUMMARY:Jak držet krok s dobou: trendy\, technologie a generace Z
DESCRIPTION:📅 Termín konání: 30. 3. 2026 \n🕘 Čas: 11.00–13.00 \n🌐Forma: online \n💸 Cena: zdarma \n👩‍🏫 Lektor: Pavlína Louženská – zakladatelka trendforecastingové agentury TrendBrews \nŠkolení představí hlavní technologické a společenské trendy\, například umělou inteligenci\, změny spotřebitelského chování nebo nástup generací Z a Alfa\, a ukáže\, jak mohou ovlivnit fungování organizací v příštích letech. Budoucnost se zde promění v kreativní laboratoř plnou provokativních scénářů\, kulturních signálů a spekulativních příběhů\, které rozšiřují představivost a narušují obvyklé způsoby přemýšlení o tom\, co nás čeká. \nTrendy 2026: Rok\, kdy se všechno stane skutečností\nRozhodující síly roku 2026 již mění způsob\, jakým žijeme\, pracujeme\, nakupujeme a tvoříme. Umělá inteligence se stává neviditelnou infrastrukturou spíše než titulkem. Spotřebitelé se od „příjemných věcí“ přesouvají k brutálně praktickým volbám. Důvěra se stává základní měnou\, která formuje značky\, politiku a kulturu. S tím\, jak si lidé znovu získávají jejich pozornost\, stoupá nová vlna digitálního minimalismu. A generační posun moci se zrychluje\, přičemž generace Z a Alfa přepisují pravidla vkusu\, práce a vlivu. Toto školení vás zavede přímo do největších trendů roku 2026 – co je bude hnát\, jak se projeví v každodenním životě a proč jsou důležité pro každou firmu. \n2030: Svět přepracovaný\nDo roku 2030 se svět bude zdát známý a radikálně přetvořený. Umělá inteligence tiše běží v pozadí každého odvětví a stává se stejně nezbytnou součástí elektřiny. Demografické změny transformují města\, pracoviště a celé ekonomiky\, protože stárnoucí populace se střetává s nástupem generace Alfa. Adaptace na změnu klimatu se stává každodenní praxí a ovlivňuje to\, jak stavíme\, jíme\, cestujeme a utrácíme. Globální kultura se fragmentuje do specializovaných digitálních kmenů\, zatímco důvěra se stává nejvzácnějším a nejcennějším zdrojem – od značek až po vlády. Tato přednáška vás provede silami\, které definují rok 2030\, jak již dnes formují naše životy a proč příštích pět let přepíše více než předchozích dvacet.
URL:https://regionpraha.mlp.cz/akce/jak-drzet-krok-s-dobou-trendy-technologie-a-generace-z/
LOCATION:online
ATTACH;FMTTYPE=image/jpeg:https://regionpraha.mlp.cz/wp-content/uploads/2026/03/Foto-lektor-Louzenska-e1773229157465.jpg
END:VEVENT
BEGIN:VEVENT
DTSTART;TZID=Europe/Prague:20260331T140000
DTEND;TZID=Europe/Prague:20260331T153000
DTSTAMP:20260422T071001
CREATED:20260331T121538Z
LAST-MODIFIED:20260331T121538Z
UID:9948-1774965600-1774971000@regionpraha.mlp.cz
SUMMARY:Inspirační webinář k ocenění Bibliotheca inspirans 2026
DESCRIPTION:📅 Termín konání: 31. 3. 2026 \n🕘 Čas: 14.00–15.30 \n🌐Forma: online \n💸 Cena: zdarma \n👩‍🏫 Organizátor: Nadace OSF \nPokud vás zajímá\, jakými aktivitami je možné posilovat demokracii\, nebo si nejste jistí\, zda knihovnu nebo její aktivitu nominovat na ocenění\, přijďte se inspirovat. \nLidé z praxe vám představí zajímavé příklady aktivit realizovaných nebo přenositelných do knihoven. Dozvíte se např.: \n\n\nco dělají pro demokracii v knihovně v Aarhusu \n\n\njak rozhýbávat místní komunity a zapojit co nejvíce skupin obyvatel \n\n\njak přemýšlet o demokratickém dialogu v knihovnách \n\n\nco se dá dělat  pro posílení  volební gramotnosti obyvatel\, či kritického myšlení. \n\n\nNadace OSF společně s Českou spořitelnou letos již popáté ocení knihovny\, které přinášejí příklady dobré a inspirativní praxe. Letos se zaměříme na knihovny a jejich aktivity přispívající k posilování demokracie. \nVíce informací o ocenění Bibliotheca inspirans\, vč. možnosti nominovat knihovnu\, najdete na našich stránkách tady. \n\nRegistrace na webinář přes TENTO ODKAZ.
URL:https://regionpraha.mlp.cz/akce/webinar-bibliotheca-inspirans-2026/
LOCATION:online
ATTACH;FMTTYPE=image/jpeg:https://regionpraha.mlp.cz/wp-content/uploads/2026/03/bibliotheca-inspirans.jpg
END:VEVENT
END:VCALENDAR