BEGIN:VCALENDAR
VERSION:2.0
PRODID:-//Portál pražských knihoven - ECPv6.13.1//NONSGML v1.0//EN
CALSCALE:GREGORIAN
METHOD:PUBLISH
X-WR-CALNAME:Portál pražských knihoven
X-ORIGINAL-URL:https://regionpraha.mlp.cz
X-WR-CALDESC:Akce na Portál pražských knihoven
REFRESH-INTERVAL;VALUE=DURATION:PT1H
X-Robots-Tag:noindex
X-PUBLISHED-TTL:PT1H
BEGIN:VTIMEZONE
TZID:UTC
BEGIN:STANDARD
TZOFFSETFROM:+0000
TZOFFSETTO:+0000
TZNAME:UTC
DTSTART:20220101T000000
END:STANDARD
END:VTIMEZONE
BEGIN:VEVENT
DTSTART;TZID=UTC:20221107T090000
DTEND;TZID=UTC:20221107T163000
DTSTAMP:20260423T033435
CREATED:20221024T213713Z
LAST-MODIFIED:20221025T143115Z
UID:2620-1667811600-1667838600@regionpraha.mlp.cz
SUMMARY:Wikipedie - tvorba hesel a článků
DESCRIPTION:Účastníci se naučí přispívat do encyklopedie Wikipedie. Seznámí se s tím\, jak Wikipedie vzniká a funguje. Naučí se opravovat chyby v článcích\, diskutovat s ostatními wikipedisty\, doplňovat do článků chybějící informace i vytvořit kompletně nové heslo\, včetně třeba nahrání fotografií. \n ONLINE AKCE \nOdkaz a instrukce k připojení obdržíte e-mailem po registraci na akci.
URL:https://regionpraha.mlp.cz/akce/wikipedie-tvorba-hesel-a-clanku/
LOCATION:online
ATTACH;FMTTYPE=image/jpeg:https://regionpraha.mlp.cz/wp-content/uploads/2022/10/wikipedie-scaled.jpg
END:VEVENT
BEGIN:VEVENT
DTSTART;TZID=UTC:20221107T090000
DTEND;TZID=UTC:20221107T113000
DTSTAMP:20260423T033435
CREATED:20221025T185500Z
LAST-MODIFIED:20221025T185724Z
UID:2885-1667811600-1667820600@regionpraha.mlp.cz
SUMMARY:Setkání s komiksy
DESCRIPTION:Nejzajímavější komiksy vydané v ČR za poslední půlrok. V pořadí čtvrté on-line setkání s akvizitérem a lektorem komiksů v MKP ve formě přednášky s prostorem pro případnou diskusi. Akce je inspirovaná setkáními s lektory beletrie L. Šinkmajerem a T. Vlčkem. \n ONLINE AKCE \nOdkaz a instrukce k připojení obdržíte e-mailem po registraci na akci.
URL:https://regionpraha.mlp.cz/akce/setkani-s-komiksy/
LOCATION:online
ATTACH;FMTTYPE=image/jpeg:https://regionpraha.mlp.cz/wp-content/uploads/2022/10/miika-laaksonen-nUL9aPgGvgM-unsplash-scaled.jpg
END:VEVENT
BEGIN:VEVENT
DTSTART;TZID=UTC:20221107T090000
DTEND;TZID=UTC:20221107T103000
DTSTAMP:20260423T033435
CREATED:20221025T190522Z
LAST-MODIFIED:20221025T190749Z
UID:2891-1667811600-1667817000@regionpraha.mlp.cz
SUMMARY:Exkurze do oddělení vzácných tisků MKP
DESCRIPTION:Seznámení s péčí a ochranou fondu Od dělení vzácných tisků. Přiblížení základních technik konzervace a restaurování knižních vazeb včetně názorných ukázek. Oddělením Vás provede Jana Kozáková\, vedoucí oddělení a kolegové Tomáš Dušátko a Petr Němec DiS.
URL:https://regionpraha.mlp.cz/akce/exkurze-do-oddeleni-vzacnych-tisku-mkp/
LOCATION:Oddělení vzácných tisků\, U Brusnice 324/9\, Praha 6 - Hradčany
ATTACH;FMTTYPE=image/jpeg:https://regionpraha.mlp.cz/wp-content/uploads/2022/10/natalia-yakovleva-f5xddISq428-unsplash-scaled.jpg
END:VEVENT
BEGIN:VEVENT
DTSTART;TZID=UTC:20221104T090000
DTEND;TZID=UTC:20221104T120000
DTSTAMP:20260423T033435
CREATED:20221025T170205Z
LAST-MODIFIED:20221025T170205Z
UID:2864-1667552400-1667563200@regionpraha.mlp.cz
SUMMARY:Bezpečnost v online prostředí
DESCRIPTION:Vytvoření bezpečného hesla\, ochrana osobních údajů\, autorské právo na internetu (stahování a používání obsahu/obrázků z internetu)\, obrana proti podvodným praktikám\, seznámení se světem kyberzločinu jako základ pro lepší práci se čtenáři. \n ONLINE AKCE \nOdkaz a instrukce k připojení obdržíte e-mailem po registraci na akci.
URL:https://regionpraha.mlp.cz/akce/bezpecnost-v-online-prostredi-3/
LOCATION:online
ATTACH;FMTTYPE=image/jpeg:https://regionpraha.mlp.cz/wp-content/uploads/2022/10/marvin-meyer-SYTO3xs06fU-unsplash-scaled.jpg
END:VEVENT
BEGIN:VEVENT
DTSTART;TZID=UTC:20221031T090000
DTEND;TZID=UTC:20221031T163000
DTSTAMP:20260423T033435
CREATED:20221025T172554Z
LAST-MODIFIED:20221025T175243Z
UID:2875-1667206800-1667233800@regionpraha.mlp.cz
SUMMARY:Wikipedie - tvorba hesel a článků
DESCRIPTION:Účastníci se naučí přispívat do encyklopedie Wikipedie. Seznámí se s tím\, jak Wikipedie vzniká a funguje. Naučí se opravovat chyby v článcích\, diskutovat s ostatními wikipedisty\, doplňovat do článků chybějící informace i vytvořit kompletně nové heslo\, včetně třeba nahrání fotografií. \n ONLINE AKCE \nOdkaz a instrukce k připojení obdržíte e-mailem po registraci na akci.
URL:https://regionpraha.mlp.cz/akce/wikipedie-tvorba-hesel-a-clanku-2/
LOCATION:online
ATTACH;FMTTYPE=image/jpeg:https://regionpraha.mlp.cz/wp-content/uploads/2022/10/wikipedie-scaled.jpg
END:VEVENT
BEGIN:VEVENT
DTSTART;TZID=UTC:20221027T090000
DTEND;TZID=UTC:20221027T143000
DTSTAMP:20260423T033435
CREATED:20221025T141556Z
LAST-MODIFIED:20221025T143134Z
UID:2789-1666861200-1666881000@regionpraha.mlp.cz
SUMMARY:Digitální knihovna Kramerius (pokročilí)
DESCRIPTION:Kurz je zaměřen na hlubší seznámení s digitální knihovnou Kramerius\, která zachraňuje periodika a monografie ohrožené degradací papíru a zachovává jejich obsah uživatelům. Uchazeči se seznámí s Národní digitální knihovnou (Kramerius v NK ČR a MZK) a Českou digitální knihovnou a s různými druhy klientů (K4 klient\, K5 klient\, klient Digitální knihovna) včetně přístupu do Krameria z mobilních zařízení. Osvojí si rozšířené vyhledávání dokumentů a informací v této volně dostupné databázi.
URL:https://regionpraha.mlp.cz/akce/digitalni-knihovna-kramerius-pokrocili/
LOCATION:učebna Provaznická\, Provaznická 3\, Praha 1
ATTACH;FMTTYPE=image/jpeg:https://regionpraha.mlp.cz/wp-content/uploads/2022/10/katja-anna-krug-YiHXdZzyG4o-unsplash-scaled.jpg
END:VEVENT
END:VCALENDAR